BEGIN:VCALENDAR
VERSION:2.0
PRODID:-//Western Australian Horticultural Council (Inc) - ECPv4.8.2//NONSGML v1.0//EN
CALSCALE:GREGORIAN
METHOD:PUBLISH
X-WR-CALNAME:Western Australian Horticultural Council (Inc)
X-ORIGINAL-URL:https://horticulturalcouncil.com.au
X-WR-CALDESC:Events for Western Australian Horticultural Council (Inc)
BEGIN:VEVENT
DTSTART;TZID=UTC+8:20230903T100000
DTEND;TZID=UTC+8:20230911T170000
DTSTAMP:20210301T205906
CREATED:20180110T024909Z
LAST-MODIFIED:20180110T024909Z
UID:682-1693735200-1694451600@horticulturalcouncil.com.au
SUMMARY:24th World Orchid Conference
DESCRIPTION:September 3-11: 24th World Orchid Conference\, Perth Western Australia. It will be held in conjunction with the 8th International Orchid Conservation Congress which will be returning to Perth\, Western Australia after the inaugural conference in 2001. The venue will be the Perth Convention & Exhibition Centre but as September is the peak flowering season for WA’s unique terrestrial orchids and native wildflowers\, organised tours will be available. Email: waos@iinet.net.au \n  \n  \n
URL:https://horticulturalcouncil.com.au/event/24th-world-orchid-conference/
ORGANIZER;CN="Tony%20Watkinson":MAILTO:waos@iinet.net.au
END:VEVENT
END:VCALENDAR