BEGIN:VCALENDAR
VERSION:2.0
PRODID:-//Western Australian Horticultural Council (Inc) - ECPv4.8.2//NONSGML v1.0//EN
CALSCALE:GREGORIAN
METHOD:PUBLISH
X-WR-CALNAME:Western Australian Horticultural Council (Inc)
X-ORIGINAL-URL:https://horticulturalcouncil.com.au
X-WR-CALDESC:Events for Western Australian Horticultural Council (Inc)
BEGIN:VEVENT
DTSTART;TZID=UTC+8:20221013T090000
DTEND;TZID=UTC+8:20221016T170000
DTSTAMP:20210301T204522
CREATED:20190324T082028Z
LAST-MODIFIED:20201013T085615Z
UID:966-1665651600-1665939600@horticulturalcouncil.com.au
SUMMARY:9th World Bonsai Convention (WA)
DESCRIPTION:13-16 October 2022 Crown Towers\, Burswood\, Perth\, Western Australia. Postponed from 2021. \nwww.facebook.com/groups/bonsaisocietyofwa/ or www.bonsaisocietywa.com \n  \n
URL:https://horticulturalcouncil.com.au/event/9th-world-bonsai-convention/
END:VEVENT
END:VCALENDAR